Package: tximportData Version: 1.39.0 Command: /home/biocbuild/bbs-3.23-bioc/R/bin/R CMD build --keep-empty-dirs --no-resave-data tximportData StartedAt: 2025-11-11 11:47:38 -0500 (Tue, 11 Nov 2025) EndedAt: 2025-11-11 11:50:06 -0500 (Tue, 11 Nov 2025) EllapsedTime: 147.6 seconds RetCode: 0 Status: OK PackageFile: tximportData_1.39.0.tar.gz PackageFileSize: 385.8 MiB