Package: tofsimsData Version: 1.39.0 Command: /home/biocbuild/bbs-3.23-bioc/R/bin/R CMD check --install=check:tofsimsData.install-out.txt --library=/home/biocbuild/bbs-3.23-bioc/R/site-library --timings tofsimsData_1.39.0.tar.gz StartedAt: 2025-10-30 12:55:10 -0400 (Thu, 30 Oct 2025) EndedAt: 2025-10-30 12:55:26 -0400 (Thu, 30 Oct 2025) EllapsedTime: 15.3 seconds RetCode: 0 Status: WARNINGS CheckDir: tofsimsData.Rcheck Warnings: 1