Package: tissueTreg Version: 1.31.0 Command: /home/biocbuild/bbs-3.23-bioc/R/bin/R CMD build --keep-empty-dirs --no-resave-data tissueTreg StartedAt: 2025-11-27 11:46:43 -0500 (Thu, 27 Nov 2025) EndedAt: 2025-11-27 11:48:15 -0500 (Thu, 27 Nov 2025) EllapsedTime: 92.3 seconds RetCode: 0 Status: OK PackageFile: tissueTreg_1.31.0.tar.gz PackageFileSize: 684.7 KiB