Package: tinesath1probe Version: 1.49.0 Command: /home/biocbuild/bbs-3.23-bioc/R/bin/R CMD build --keep-empty-dirs --no-resave-data tinesath1probe StartedAt: 2025-10-30 11:42:21 -0400 (Thu, 30 Oct 2025) EndedAt: 2025-10-30 11:42:22 -0400 (Thu, 30 Oct 2025) EllapsedTime: 1.3 seconds RetCode: 0 Status: OK PackageFile: tinesath1probe_1.49.0.tar.gz PackageFileSize: 3.037 MiB