Package: tinesath1cdf Version: 1.49.0 Command: /home/biocbuild/bbs-3.23-bioc/R/bin/R CMD check --install=check:tinesath1cdf.install-out.txt --library=/home/biocbuild/bbs-3.23-bioc/R/site-library --timings tinesath1cdf_1.49.0.tar.gz StartedAt: 2025-10-30 12:54:01 -0400 (Thu, 30 Oct 2025) EndedAt: 2025-10-30 12:54:17 -0400 (Thu, 30 Oct 2025) EllapsedTime: 16.0 seconds RetCode: 0 Status: WARNINGS CheckDir: tinesath1cdf.Rcheck Warnings: 1