Package: timecoursedata Version: 1.21.0 Command: /home/biocbuild/bbs-3.23-bioc/R/bin/R CMD check --install=check:timecoursedata.install-out.txt --library=/home/biocbuild/bbs-3.23-bioc/R/site-library --timings timecoursedata_1.21.0.tar.gz StartedAt: 2025-10-30 12:53:20 -0400 (Thu, 30 Oct 2025) EndedAt: 2025-10-30 12:56:20 -0400 (Thu, 30 Oct 2025) EllapsedTime: 180.5 seconds RetCode: 0 Status: OK CheckDir: timecoursedata.Rcheck Warnings: 0