Package: timecoursedata Version: 1.21.0 Command: /home/biocbuild/bbs-3.23-bioc/R/bin/R CMD build --keep-empty-dirs --no-resave-data timecoursedata StartedAt: 2025-10-30 11:41:56 -0400 (Thu, 30 Oct 2025) EndedAt: 2025-10-30 11:42:38 -0400 (Thu, 30 Oct 2025) EllapsedTime: 41.5 seconds RetCode: 0 Status: OK PackageFile: timecoursedata_1.21.0.tar.gz PackageFileSize: 44.87 MiB