Package: systemPipeRdata Version: 2.15.0 Command: /home/biocbuild/bbs-3.23-bioc/R/bin/R CMD INSTALL systemPipeRdata StartedAt: 2025-11-13 10:56:39 -0500 (Thu, 13 Nov 2025) EndedAt: 2025-11-13 10:56:48 -0500 (Thu, 13 Nov 2025) EllapsedTime: 9.0 seconds RetCode: 0 Status: OK