Package: stemHypoxia Version: 1.47.0 Command: /home/biocbuild/bbs-3.23-bioc/R/bin/R CMD build --keep-empty-dirs --no-resave-data stemHypoxia StartedAt: 2025-10-30 11:39:25 -0400 (Thu, 30 Oct 2025) EndedAt: 2025-10-30 11:39:27 -0400 (Thu, 30 Oct 2025) EllapsedTime: 1.4 seconds RetCode: 0 Status: OK PackageFile: stemHypoxia_1.47.0.tar.gz PackageFileSize: 2.773 MiB