############################################################################## ############################################################################## ### ### Running command: ### ### /home/biocbuild/bbs-3.23-bioc/R/bin/R CMD check --install=check:spatialLIBD.install-out.txt --library=/home/biocbuild/bbs-3.23-bioc/R/site-library --timings spatialLIBD_1.23.0.tar.gz ### ############################################################################## ############################################################################## * using log directory ‘/home/biocbuild/bbs-3.23-data-experiment/meat/spatialLIBD.Rcheck’ * using R Under development (unstable) (2025-10-20 r88955) * using platform: x86_64-pc-linux-gnu * R was compiled by gcc (Ubuntu 13.3.0-6ubuntu2~24.04) 13.3.0 GNU Fortran (Ubuntu 13.3.0-6ubuntu2~24.04) 13.3.0 * running under: Ubuntu 24.04.3 LTS * using session charset: UTF-8 * checking for file ‘spatialLIBD/DESCRIPTION’ ... OK * this is package ‘spatialLIBD’ version ‘1.23.0’ * package encoding: UTF-8 * checking package namespace information ... OK * checking package dependencies ... INFO Imports includes 36 non-default packages. Importing from so many packages makes the package vulnerable to any of them becoming unavailable. Move as many as possible to Suggests and use conditionally. * checking if this is a source package ... OK * checking if there is a namespace ... OK * checking for hidden files and directories ... OK * checking for portable file names ... OK * checking for sufficient/correct file permissions ... OK * checking whether package ‘spatialLIBD’ can be installed ... OK * checking installed package size ... OK * checking package directory ... OK * checking ‘build’ directory ... OK * checking DESCRIPTION meta-information ... OK * checking top-level files ... OK * checking for left-over files ... OK * checking index information ... OK * checking package subdirectories ... OK * checking code files for non-ASCII characters ... OK * checking R files for syntax errors ... OK * checking whether the package can be loaded ... OK * checking whether the package can be loaded with stated dependencies ... OK * checking whether the package can be unloaded cleanly ... OK * checking whether the namespace can be loaded with stated dependencies ... OK * checking whether the namespace can be unloaded cleanly ... OK * checking loading without being on the library search path ... OK * checking dependencies in R code ... OK * checking S3 generic/method consistency ... OK * checking replacement functions ... OK * checking foreign function calls ... OK * checking R code for possible problems ... OK * checking Rd files ... OK * checking Rd metadata ... OK * checking Rd cross-references ... NOTE Found the following Rd file(s) with Rd \link{} targets missing package anchors: check_sce.Rd: SingleCellExperiment-class check_sce_layer.Rd: SingleCellExperiment-class fetch_data.Rd: SingleCellExperiment-class layer_boxplot.Rd: SingleCellExperiment-class run_app.Rd: SingleCellExperiment-class sce_to_spe.Rd: SingleCellExperiment-class sig_genes_extract.Rd: SingleCellExperiment-class sig_genes_extract_all.Rd: SingleCellExperiment-class Please provide package anchors for all Rd \link{} targets not in the package itself and the base packages. * checking for missing documentation entries ... OK * checking for code/documentation mismatches ... OK * checking Rd \usage sections ... OK * checking Rd contents ... OK * checking for unstated dependencies in examples ... OK * checking contents of ‘data’ directory ... OK * checking data for non-ASCII characters ... OK * checking LazyData ... OK * checking data for ASCII and uncompressed saves ... OK * checking files in ‘vignettes’ ... OK * checking examples ... OK Examples with CPU (user + system) or elapsed time > 5s user system elapsed vis_gene 28.568 4.268 33.676 add_images 22.911 3.766 28.388 vis_clus 22.331 4.336 27.576 img_update_all 19.498 2.662 23.351 add_qc_metrics 17.787 2.499 20.666 vis_image 17.013 3.143 20.865 vis_grid_clus 16.250 3.237 20.131 vis_grid_gene 16.470 2.769 19.775 vis_clus_p 16.159 2.772 19.517 add_key 16.519 2.406 19.910 cluster_export 16.360 2.463 19.440 cluster_import 16.418 2.187 19.465 img_update 14.949 2.695 18.386 vis_gene_p 15.212 2.197 18.088 img_edit 14.556 2.498 17.584 frame_limits 14.708 2.191 17.435 check_spe 14.703 2.132 17.390 geom_spatial 14.768 1.860 17.211 sce_to_spe 14.133 2.345 17.146 gene_set_enrichment_plot 8.447 0.943 9.743 layer_stat_cor_plot 4.622 0.804 5.739 * checking for unstated dependencies in ‘tests’ ... OK * checking tests ... Running ‘testthat.R’ OK * checking for unstated dependencies in vignettes ... OK * checking package vignettes ... OK * checking re-building of vignette outputs ... OK * checking PDF version of manual ... OK * DONE Status: 1 NOTE See ‘/home/biocbuild/bbs-3.23-data-experiment/meat/spatialLIBD.Rcheck/00check.log’ for details.