Package: spatialDmelxsim Version: 1.17.0 Command: /home/biocbuild/bbs-3.23-bioc/R/bin/R CMD INSTALL spatialDmelxsim StartedAt: 2025-10-30 11:01:19 -0400 (Thu, 30 Oct 2025) EndedAt: 2025-10-30 11:01:45 -0400 (Thu, 30 Oct 2025) EllapsedTime: 25.3 seconds RetCode: 0 Status: OK