Package: smokingMouse Version: 1.9.0 Command: /home/biocbuild/bbs-3.23-bioc/R/bin/R CMD check --install=check:smokingMouse.install-out.txt --library=/home/biocbuild/bbs-3.23-bioc/R/site-library --timings smokingMouse_1.9.0.tar.gz StartedAt: 2025-10-30 12:46:51 -0400 (Thu, 30 Oct 2025) EndedAt: 2025-10-30 12:47:39 -0400 (Thu, 30 Oct 2025) EllapsedTime: 47.3 seconds RetCode: 0 Status: OK CheckDir: smokingMouse.Rcheck Warnings: 0