Package: smokingMouse Version: 1.9.0 Command: /home/biocbuild/bbs-3.23-bioc/R/bin/R CMD build --keep-empty-dirs --no-resave-data smokingMouse StartedAt: 2025-10-30 11:38:49 -0400 (Thu, 30 Oct 2025) EndedAt: 2025-10-30 11:39:14 -0400 (Thu, 30 Oct 2025) EllapsedTime: 25.3 seconds RetCode: 0 Status: OK PackageFile: smokingMouse_1.9.0.tar.gz PackageFileSize: 5.108 MiB