Package: simpIntLists Version: 1.47.0 Command: /home/biocbuild/bbs-3.23-bioc/R/bin/R CMD check --install=check:simpIntLists.install-out.txt --library=/home/biocbuild/bbs-3.23-bioc/R/site-library --timings simpIntLists_1.47.0.tar.gz StartedAt: 2025-10-30 12:46:05 -0400 (Thu, 30 Oct 2025) EndedAt: 2025-10-30 12:47:12 -0400 (Thu, 30 Oct 2025) EllapsedTime: 66.6 seconds RetCode: 0 Status: WARNINGS CheckDir: simpIntLists.Rcheck Warnings: 1