Package: simpIntLists Version: 1.47.0 Command: /home/biocbuild/bbs-3.23-bioc/R/bin/R CMD build --keep-empty-dirs --no-resave-data simpIntLists StartedAt: 2025-10-30 11:38:33 -0400 (Thu, 30 Oct 2025) EndedAt: 2025-10-30 11:38:42 -0400 (Thu, 30 Oct 2025) EllapsedTime: 8.7 seconds RetCode: 0 Status: OK PackageFile: simpIntLists_1.47.0.tar.gz PackageFileSize: 4.365 MiB