Package: signatureSearchData Version: 1.25.0 Command: /home/biocbuild/bbs-3.23-bioc/R/bin/R CMD INSTALL signatureSearchData StartedAt: 2025-11-13 10:57:01 -0500 (Thu, 13 Nov 2025) EndedAt: 2025-11-13 10:57:06 -0500 (Thu, 13 Nov 2025) EllapsedTime: 5.0 seconds RetCode: 0 Status: OK