Package: signatureSearchData Version: 1.25.0 Command: /home/biocbuild/bbs-3.23-bioc/R/bin/R CMD check --install=check:signatureSearchData.install-out.txt --library=/home/biocbuild/bbs-3.23-bioc/R/site-library --timings signatureSearchData_1.25.0.tar.gz StartedAt: 2025-11-13 13:06:07 -0500 (Thu, 13 Nov 2025) EndedAt: 2025-11-13 13:07:09 -0500 (Thu, 13 Nov 2025) EllapsedTime: 61.3 seconds RetCode: 0 Status: OK CheckDir: signatureSearchData.Rcheck Warnings: 0