Package: sesameData Version: 1.29.0 Command: /home/biocbuild/bbs-3.23-bioc/R/bin/R CMD INSTALL sesameData StartedAt: 2025-10-30 11:02:36 -0400 (Thu, 30 Oct 2025) EndedAt: 2025-10-30 11:02:51 -0400 (Thu, 30 Oct 2025) EllapsedTime: 14.9 seconds RetCode: 0 Status: OK