Package: sesameData Version: 1.29.1 Command: /home/biocbuild/bbs-3.23-bioc/R/bin/R CMD check --install=check:sesameData.install-out.txt --library=/home/biocbuild/bbs-3.23-bioc/R/site-library --timings sesameData_1.29.1.tar.gz StartedAt: 2025-11-04 12:55:30 -0500 (Tue, 04 Nov 2025) EndedAt: 2025-11-04 12:58:17 -0500 (Tue, 04 Nov 2025) EllapsedTime: 166.4 seconds RetCode: 0 Status: OK CheckDir: sesameData.Rcheck Warnings: 0