Package: sesameData Version: 1.29.0 Command: /home/biocbuild/bbs-3.23-bioc/R/bin/R CMD build --keep-empty-dirs --no-resave-data sesameData StartedAt: 2025-10-30 11:37:53 -0400 (Thu, 30 Oct 2025) EndedAt: 2025-10-30 11:38:26 -0400 (Thu, 30 Oct 2025) EllapsedTime: 32.9 seconds RetCode: 0 Status: OK PackageFile: sesameData_1.29.0.tar.gz PackageFileSize: 1.882 MiB