Package: seqc Version: 1.45.0 Command: /home/biocbuild/bbs-3.23-bioc/R/bin/R CMD INSTALL seqc StartedAt: 2025-10-30 10:56:17 -0400 (Thu, 30 Oct 2025) EndedAt: 2025-10-30 10:58:09 -0400 (Thu, 30 Oct 2025) EllapsedTime: 112.2 seconds RetCode: 0 Status: OK