Package: seqc Version: 1.45.0 Command: /home/biocbuild/bbs-3.23-bioc/R/bin/R CMD check --install=check:seqc.install-out.txt --library=/home/biocbuild/bbs-3.23-bioc/R/site-library --timings seqc_1.45.0.tar.gz StartedAt: 2025-10-30 12:44:50 -0400 (Thu, 30 Oct 2025) EndedAt: 2025-10-30 12:46:07 -0400 (Thu, 30 Oct 2025) EllapsedTime: 76.9 seconds RetCode: 0 Status: WARNINGS CheckDir: seqc.Rcheck Warnings: 1