Package: seqc Version: 1.45.0 Command: /home/biocbuild/bbs-3.23-bioc/R/bin/R CMD build --keep-empty-dirs --no-resave-data seqc StartedAt: 2025-10-30 11:37:47 -0400 (Thu, 30 Oct 2025) EndedAt: 2025-10-30 11:39:53 -0400 (Thu, 30 Oct 2025) EllapsedTime: 126.5 seconds RetCode: 0 Status: OK PackageFile: seqc_1.45.0.tar.gz PackageFileSize: 179.1 MiB