Package: scMultiome Version: 1.11.0 Command: /home/biocbuild/bbs-3.23-bioc/R/bin/R CMD INSTALL scMultiome StartedAt: 2025-11-20 11:02:29 -0500 (Thu, 20 Nov 2025) EndedAt: 2025-11-20 11:02:59 -0500 (Thu, 20 Nov 2025) EllapsedTime: 30.6 seconds RetCode: 0 Status: OK