Package: scMultiome Version: 1.11.0 Command: /home/biocbuild/bbs-3.23-bioc/R/bin/R CMD build --keep-empty-dirs --no-resave-data scMultiome StartedAt: 2025-11-20 11:42:15 -0500 (Thu, 20 Nov 2025) EndedAt: 2025-11-20 11:43:06 -0500 (Thu, 20 Nov 2025) EllapsedTime: 50.5 seconds RetCode: 0 Status: OK PackageFile: scMultiome_1.11.0.tar.gz PackageFileSize: 359.8 KiB