Package: scATAC.Explorer Version: 1.17.0 Command: /home/biocbuild/bbs-3.23-bioc/R/bin/R CMD INSTALL scATAC.Explorer StartedAt: 2025-10-30 11:02:42 -0400 (Thu, 30 Oct 2025) EndedAt: 2025-10-30 11:03:08 -0400 (Thu, 30 Oct 2025) EllapsedTime: 25.9 seconds RetCode: 0 Status: OK