Package: scATAC.Explorer Version: 1.17.0 Command: /home/biocbuild/bbs-3.23-bioc/R/bin/R CMD check --install=check:scATAC.Explorer.install-out.txt --library=/home/biocbuild/bbs-3.23-bioc/R/site-library --timings scATAC.Explorer_1.17.0.tar.gz StartedAt: 2025-10-30 12:43:59 -0400 (Thu, 30 Oct 2025) EndedAt: 2025-10-30 13:16:08 -0400 (Thu, 30 Oct 2025) EllapsedTime: 1929.1 seconds RetCode: 0 Status: OK CheckDir: scATAC.Explorer.Rcheck Warnings: 0