Package: rcellminerData Version: 2.33.0 Command: /home/biocbuild/bbs-3.23-bioc/R/bin/R CMD INSTALL rcellminerData StartedAt: 2025-11-06 10:56:04 -0500 (Thu, 06 Nov 2025) EndedAt: 2025-11-06 10:56:25 -0500 (Thu, 06 Nov 2025) EllapsedTime: 21.5 seconds RetCode: 0 Status: OK