Package: rcellminerData Version: 2.33.0 Command: /home/biocbuild/bbs-3.23-bioc/R/bin/R CMD check --install=check:rcellminerData.install-out.txt --library=/home/biocbuild/bbs-3.23-bioc/R/site-library --timings rcellminerData_2.33.0.tar.gz StartedAt: 2025-11-06 12:49:53 -0500 (Thu, 06 Nov 2025) EndedAt: 2025-11-06 12:54:14 -0500 (Thu, 06 Nov 2025) EllapsedTime: 260.7 seconds RetCode: 0 Status: WARNINGS CheckDir: rcellminerData.Rcheck Warnings: 2