Package: rcellminerData Version: 2.33.0 Command: /home/biocbuild/bbs-3.23-bioc/R/bin/R CMD build --keep-empty-dirs --no-resave-data rcellminerData StartedAt: 2025-11-06 11:37:06 -0500 (Thu, 06 Nov 2025) EndedAt: 2025-11-06 11:41:37 -0500 (Thu, 06 Nov 2025) EllapsedTime: 271.2 seconds RetCode: 0 Status: OK PackageFile: rcellminerData_2.33.0.tar.gz PackageFileSize: 382 MiB