Package: raerdata Version: 1.9.0 Command: /home/biocbuild/bbs-3.23-bioc/R/bin/R CMD INSTALL raerdata StartedAt: 2025-11-20 11:00:53 -0500 (Thu, 20 Nov 2025) EndedAt: 2025-11-20 11:01:29 -0500 (Thu, 20 Nov 2025) EllapsedTime: 36.1 seconds RetCode: 0 Status: OK