Package: qPLEXdata Version: 1.29.0 Command: /home/biocbuild/bbs-3.23-bioc/R/bin/R CMD INSTALL qPLEXdata StartedAt: 2025-10-30 11:01:45 -0400 (Thu, 30 Oct 2025) EndedAt: 2025-10-30 11:02:22 -0400 (Thu, 30 Oct 2025) EllapsedTime: 36.7 seconds RetCode: 0 Status: OK