Package: qPLEXdata Version: 1.29.0 Command: /home/biocbuild/bbs-3.23-bioc/R/bin/R CMD build --keep-empty-dirs --no-resave-data qPLEXdata StartedAt: 2025-10-30 11:32:27 -0400 (Thu, 30 Oct 2025) EndedAt: 2025-10-30 11:33:20 -0400 (Thu, 30 Oct 2025) EllapsedTime: 53.1 seconds RetCode: 1 Status: ERROR PackageFile: None PackageFileSize: NA