Package: pumadata Version: 2.47.0 Command: /home/biocbuild/bbs-3.23-bioc/R/bin/R CMD INSTALL pumadata StartedAt: 2025-10-30 11:02:22 -0400 (Thu, 30 Oct 2025) EndedAt: 2025-10-30 11:02:50 -0400 (Thu, 30 Oct 2025) EllapsedTime: 28.6 seconds RetCode: 0 Status: OK