Package: pumadata Version: 2.47.0 Command: /home/biocbuild/bbs-3.23-bioc/R/bin/R CMD check --install=check:pumadata.install-out.txt --library=/home/biocbuild/bbs-3.23-bioc/R/site-library --timings pumadata_2.47.0.tar.gz StartedAt: 2025-10-30 12:36:48 -0400 (Thu, 30 Oct 2025) EndedAt: 2025-10-30 12:40:16 -0400 (Thu, 30 Oct 2025) EllapsedTime: 208.5 seconds RetCode: 0 Status: OK CheckDir: pumadata.Rcheck Warnings: 0