Package: prostateCancerVarambally Version: 1.39.0 Command: /home/biocbuild/bbs-3.23-bioc/R/bin/R CMD INSTALL prostateCancerVarambally StartedAt: 2025-10-30 10:56:14 -0400 (Thu, 30 Oct 2025) EndedAt: 2025-10-30 10:56:21 -0400 (Thu, 30 Oct 2025) EllapsedTime: 6.6 seconds RetCode: 0 Status: OK