Package: prostateCancerVarambally Version: 1.39.0 Command: /home/biocbuild/bbs-3.23-bioc/R/bin/R CMD check --install=check:prostateCancerVarambally.install-out.txt --library=/home/biocbuild/bbs-3.23-bioc/R/site-library --timings prostateCancerVarambally_1.39.0.tar.gz StartedAt: 2025-10-30 12:36:34 -0400 (Thu, 30 Oct 2025) EndedAt: 2025-10-30 12:36:51 -0400 (Thu, 30 Oct 2025) EllapsedTime: 17.5 seconds RetCode: 0 Status: WARNINGS CheckDir: prostateCancerVarambally.Rcheck Warnings: 1