Package: prostateCancerVarambally Version: 1.39.0 Command: /home/biocbuild/bbs-3.23-bioc/R/bin/R CMD build --keep-empty-dirs --no-resave-data prostateCancerVarambally StartedAt: 2025-10-30 11:32:10 -0400 (Thu, 30 Oct 2025) EndedAt: 2025-10-30 11:32:18 -0400 (Thu, 30 Oct 2025) EllapsedTime: 7.6 seconds RetCode: 0 Status: OK PackageFile: prostateCancerVarambally_1.39.0.tar.gz PackageFileSize: 5.717 MiB