Package: prostateCancerTaylor Version: 1.39.0 Command: /home/biocbuild/bbs-3.23-bioc/R/bin/R CMD check --install=check:prostateCancerTaylor.install-out.txt --library=/home/biocbuild/bbs-3.23-bioc/R/site-library --timings prostateCancerTaylor_1.39.0.tar.gz StartedAt: 2025-10-30 12:36:28 -0400 (Thu, 30 Oct 2025) EndedAt: 2025-10-30 12:36:48 -0400 (Thu, 30 Oct 2025) EllapsedTime: 19.3 seconds RetCode: 0 Status: WARNINGS CheckDir: prostateCancerTaylor.Rcheck Warnings: 1