Package: prostateCancerTaylor Version: 1.39.0 Command: /home/biocbuild/bbs-3.23-bioc/R/bin/R CMD build --keep-empty-dirs --no-resave-data prostateCancerTaylor StartedAt: 2025-10-30 11:32:00 -0400 (Thu, 30 Oct 2025) EndedAt: 2025-10-30 11:32:13 -0400 (Thu, 30 Oct 2025) EllapsedTime: 12.6 seconds RetCode: 0 Status: OK PackageFile: prostateCancerTaylor_1.39.0.tar.gz PackageFileSize: 25.77 MiB