Package: prostateCancerGrasso Version: 1.39.0 Command: /home/biocbuild/bbs-3.23-bioc/R/bin/R CMD build --keep-empty-dirs --no-resave-data prostateCancerGrasso StartedAt: 2025-10-30 11:31:58 -0400 (Thu, 30 Oct 2025) EndedAt: 2025-10-30 11:32:10 -0400 (Thu, 30 Oct 2025) EllapsedTime: 11.7 seconds RetCode: 0 Status: OK PackageFile: prostateCancerGrasso_1.39.0.tar.gz PackageFileSize: 25.25 MiB