Package: prostateCancerCamcap Version: 1.39.0 Command: /home/biocbuild/bbs-3.23-bioc/R/bin/R CMD INSTALL prostateCancerCamcap StartedAt: 2025-10-30 10:56:18 -0400 (Thu, 30 Oct 2025) EndedAt: 2025-10-30 10:56:34 -0400 (Thu, 30 Oct 2025) EllapsedTime: 16.7 seconds RetCode: 0 Status: OK