Package: prostateCancerCamcap Version: 1.39.0 Command: /home/biocbuild/bbs-3.23-bioc/R/bin/R CMD check --install=check:prostateCancerCamcap.install-out.txt --library=/home/biocbuild/bbs-3.23-bioc/R/site-library --timings prostateCancerCamcap_1.39.0.tar.gz StartedAt: 2025-10-30 12:36:20 -0400 (Thu, 30 Oct 2025) EndedAt: 2025-10-30 12:36:52 -0400 (Thu, 30 Oct 2025) EllapsedTime: 32.1 seconds RetCode: 0 Status: WARNINGS CheckDir: prostateCancerCamcap.Rcheck Warnings: 1