Package: prostateCancerCamcap Version: 1.39.0 Command: /home/biocbuild/bbs-3.23-bioc/R/bin/R CMD build --keep-empty-dirs --no-resave-data prostateCancerCamcap StartedAt: 2025-10-30 11:31:54 -0400 (Thu, 30 Oct 2025) EndedAt: 2025-10-30 11:32:22 -0400 (Thu, 30 Oct 2025) EllapsedTime: 27.5 seconds RetCode: 0 Status: OK PackageFile: prostateCancerCamcap_1.39.0.tar.gz PackageFileSize: 46.88 MiB