Package: pepDat Version: 1.31.0 Command: /home/biocbuild/bbs-3.23-bioc/R/bin/R CMD INSTALL pepDat StartedAt: 2025-10-30 11:00:18 -0400 (Thu, 30 Oct 2025) EndedAt: 2025-10-30 11:00:26 -0400 (Thu, 30 Oct 2025) EllapsedTime: 7.7 seconds RetCode: 0 Status: OK