Package: pd.atdschip.tiling Version: 0.49.0 Command: /home/biocbuild/bbs-3.23-bioc/R/bin/R CMD INSTALL pd.atdschip.tiling StartedAt: 2025-10-30 11:00:05 -0400 (Thu, 30 Oct 2025) EndedAt: 2025-10-30 11:00:30 -0400 (Thu, 30 Oct 2025) EllapsedTime: 24.5 seconds RetCode: 0 Status: OK