Package: orthosData Version: 1.9.0 Command: /home/biocbuild/bbs-3.23-bioc/R/bin/R CMD build --keep-empty-dirs --no-resave-data orthosData StartedAt: 2025-11-13 11:35:32 -0500 (Thu, 13 Nov 2025) EndedAt: 2025-11-13 11:36:14 -0500 (Thu, 13 Nov 2025) EllapsedTime: 41.2 seconds RetCode: 0 Status: OK PackageFile: orthosData_1.9.0.tar.gz PackageFileSize: 311.9 KiB