Package: oct4 Version: 1.27.0 Command: /home/biocbuild/bbs-3.23-bioc/R/bin/R CMD build --keep-empty-dirs --no-resave-data oct4 StartedAt: 2025-11-27 11:34:00 -0500 (Thu, 27 Nov 2025) EndedAt: 2025-11-27 11:34:15 -0500 (Thu, 27 Nov 2025) EllapsedTime: 14.3 seconds RetCode: 0 Status: OK PackageFile: oct4_1.27.0.tar.gz PackageFileSize: 192.9 MiB