Package: nmrdata Version: 1.1.0 Command: /home/biocbuild/bbs-3.23-bioc/R/bin/R CMD check --install=check:nmrdata.install-out.txt --library=/home/biocbuild/bbs-3.23-bioc/R/site-library --timings nmrdata_1.1.0.tar.gz StartedAt: 2025-11-11 12:45:32 -0500 (Tue, 11 Nov 2025) EndedAt: 2025-11-11 12:46:08 -0500 (Tue, 11 Nov 2025) EllapsedTime: 36.3 seconds RetCode: 0 Status: OK CheckDir: nmrdata.Rcheck Warnings: 0