Package: nanotubes Version: 1.27.0 Command: /home/biocbuild/bbs-3.23-bioc/R/bin/R CMD check --install=check:nanotubes.install-out.txt --library=/home/biocbuild/bbs-3.23-bioc/R/site-library --timings nanotubes_1.27.0.tar.gz StartedAt: 2025-11-04 12:40:24 -0500 (Tue, 04 Nov 2025) EndedAt: 2025-11-04 12:41:08 -0500 (Tue, 04 Nov 2025) EllapsedTime: 43.9 seconds RetCode: 0 Status: OK CheckDir: nanotubes.Rcheck Warnings: 0